BEGIN:VCALENDAR
VERSION:2.0
PRODID:-//NEIWPCC - ECPv6.15.20//NONSGML v1.0//EN
CALSCALE:GREGORIAN
METHOD:PUBLISH
X-ORIGINAL-URL:https://neiwpcc.org
X-WR-CALDESC:Events for NEIWPCC
REFRESH-INTERVAL;VALUE=DURATION:PT1H
X-Robots-Tag:noindex
X-PUBLISHED-TTL:PT1H
BEGIN:VTIMEZONE
TZID:America/New_York
BEGIN:DAYLIGHT
TZOFFSETFROM:-0500
TZOFFSETTO:-0400
TZNAME:EDT
DTSTART:20240310T070000
END:DAYLIGHT
BEGIN:STANDARD
TZOFFSETFROM:-0400
TZOFFSETTO:-0500
TZNAME:EST
DTSTART:20241103T060000
END:STANDARD
BEGIN:DAYLIGHT
TZOFFSETFROM:-0500
TZOFFSETTO:-0400
TZNAME:EDT
DTSTART:20250309T070000
END:DAYLIGHT
BEGIN:STANDARD
TZOFFSETFROM:-0400
TZOFFSETTO:-0500
TZNAME:EST
DTSTART:20251102T060000
END:STANDARD
BEGIN:DAYLIGHT
TZOFFSETFROM:-0500
TZOFFSETTO:-0400
TZNAME:EDT
DTSTART:20260308T070000
END:DAYLIGHT
BEGIN:STANDARD
TZOFFSETFROM:-0400
TZOFFSETTO:-0500
TZNAME:EST
DTSTART:20261101T060000
END:STANDARD
END:VTIMEZONE
BEGIN:VEVENT
DTSTART;TZID=America/New_York:20250205T080000
DTEND;TZID=America/New_York:20250207T170000
DTSTAMP:20260421T063446
CREATED:20240906T185500Z
LAST-MODIFIED:20240906T185502Z
UID:46295-1738742400-1738947600@neiwpcc.org
SUMMARY:Northeast Aquatic Biologists Conference
DESCRIPTION:The Northeast Aquatic Biologists (NAB) Conference\, coordinated by NEIWPCC in partnership with member states and EPA\, preserves the spirit and tradition of providing a forum for the professional sharing of knowledge and collaboration that the aquatic and environmental biologist community in the Northeast represents. \nNAB is open to all registrants. Attendees include representatives in New England and New York State\, including participants from state\, federal\, tribal\, and municipal governments; the private sector; academia; and watershed organizations.
URL:https://neiwpcc.org/event/northeast-aquatic-biologists-conference/
LOCATION:Grand Summit Hotel at Attitash\, 104 Grand Summit Dr.\, Bartlett\, New Hampshire\, 03812
END:VEVENT
BEGIN:VEVENT
DTSTART;TZID=America/New_York:20250225T130000
DTEND;TZID=America/New_York:20250225T140000
DTSTAMP:20260421T063446
CREATED:20250212T205232Z
LAST-MODIFIED:20250212T205233Z
UID:48542-1740488400-1740492000@neiwpcc.org
SUMMARY:Designing and Implementing Trash TMDLs in Maryland (Webinar)
DESCRIPTION:The next webinar in the National 303(d) Restoring Our Impaired Waters Webinar Series will focus on the state of Maryland’s experience with establishing some of the country’s first total maximum daily loads (TMDLs) for trash pollution. The event is scheduled for February 25\, 1-2 p.m. EST via Zoom.   \nPresenter Anna Kasko will describe the approach to initiating TMDLs for trash in the Anacostia and Baltimore Harbor areas and discuss the implementation journey. The webinar will cover setting a quantitative goal and methodology\, public involvement and surveys\, and share lessons learned.   \nKasko is the senior regulatory and compliance engineer for the state of Maryland’s Department of the Environment in the Watershed Protection\, Restoration\, and Planning Program. \nRegister for this free webinar. A recording will be available online for those who cannot join the live session.
URL:https://neiwpcc.org/event/designing-and-implementing-trash-tmdls-in-maryland-webinar/
END:VEVENT
END:VCALENDAR