BEGIN:VCALENDAR
VERSION:2.0
PRODID:-//NEIWPCC - ECPv6.15.20//NONSGML v1.0//EN
CALSCALE:GREGORIAN
METHOD:PUBLISH
X-WR-CALNAME:NEIWPCC
X-ORIGINAL-URL:https://neiwpcc.org
X-WR-CALDESC:Events for NEIWPCC
REFRESH-INTERVAL;VALUE=DURATION:PT1H
X-Robots-Tag:noindex
X-PUBLISHED-TTL:PT1H
BEGIN:VTIMEZONE
TZID:America/New_York
BEGIN:DAYLIGHT
TZOFFSETFROM:-0500
TZOFFSETTO:-0400
TZNAME:EDT
DTSTART:20230312T070000
END:DAYLIGHT
BEGIN:STANDARD
TZOFFSETFROM:-0400
TZOFFSETTO:-0500
TZNAME:EST
DTSTART:20231105T060000
END:STANDARD
BEGIN:DAYLIGHT
TZOFFSETFROM:-0500
TZOFFSETTO:-0400
TZNAME:EDT
DTSTART:20240310T070000
END:DAYLIGHT
BEGIN:STANDARD
TZOFFSETFROM:-0400
TZOFFSETTO:-0500
TZNAME:EST
DTSTART:20241103T060000
END:STANDARD
BEGIN:DAYLIGHT
TZOFFSETFROM:-0500
TZOFFSETTO:-0400
TZNAME:EDT
DTSTART:20250309T070000
END:DAYLIGHT
BEGIN:STANDARD
TZOFFSETFROM:-0400
TZOFFSETTO:-0500
TZNAME:EST
DTSTART:20251102T060000
END:STANDARD
END:VTIMEZONE
BEGIN:VEVENT
DTSTART;TZID=America/New_York:20241010T080000
DTEND;TZID=America/New_York:20241010T170000
DTSTAMP:20260423T114048
CREATED:20240923T191350Z
LAST-MODIFIED:20240923T191445Z
UID:46828-1728547200-1728579600@neiwpcc.org
SUMMARY:Day in the Life of the Hudson and Harbor
DESCRIPTION:Each fall\, schools all along the Hudson River collaborate to create a “day-in-the-life” picture of the river. The annual event is designed to bring school groups and education partners to the Hudson where they can learn directly from the river. Using seine nets\, minnow pots\, water-testing gear and simple tools\, thousands of students catch and release many of the Hudson’s 200-plus species of fish\, track the river’s tides and currents\, check the salinity\, examine water chemistry and quality\, and even take a look at the muddy river bottom. The event is hosted each fall\, coordinated by The Hudson River Estuary Program of New York State Department of Environmental Conservation and operated in partnership with the Hudson River National Estuarine Research Reserve and Lamont-Doherty Earth Observatory. \nThe event takes place across 100 sites from New York Harbor to the Upper Hudson River\, N.Y.
URL:https://neiwpcc.org/event/day-in-the-life-of-the-hudson-and-harbor/
END:VEVENT
BEGIN:VEVENT
DTSTART;TZID=America/New_York:20241027T080000
DTEND;TZID=America/New_York:20241101T170000
DTSTAMP:20260423T114048
CREATED:20231220T164756Z
LAST-MODIFIED:20231220T164903Z
UID:42313-1730016000-1730480400@neiwpcc.org
SUMMARY:12th U.S. Symposium on Harmful Algae
DESCRIPTION:The 12th U.S. Symposium on Harmful Algae will be held on October 27-November 1\, 2024 in Portland\, Maine. This event aims to address the national environmental challenges of harmful algal blooms (HABs) across both freshwater and marine systems. The symposium provides an opportunity to learn about the latest HAB research and explore innovative solutions aimed at preventing and reducing HABs in the United States.
URL:https://neiwpcc.org/event/12th-u-s-symposium-on-harmful-algae/
END:VEVENT
END:VCALENDAR